BEGIN:VCALENDAR
VERSION:2.0
PRODID:-//Top Runner - ECPv6.15.20//NONSGML v1.0//EN
CALSCALE:GREGORIAN
METHOD:PUBLISH
X-WR-CALNAME:Top Runner
X-ORIGINAL-URL:https://toprunner.es
X-WR-CALDESC:Eventos para Top Runner
REFRESH-INTERVAL;VALUE=DURATION:PT1H
X-Robots-Tag:noindex
X-PUBLISHED-TTL:PT1H
BEGIN:VTIMEZONE
TZID:Europe/Helsinki
BEGIN:DAYLIGHT
TZOFFSETFROM:+0200
TZOFFSETTO:+0300
TZNAME:EEST
DTSTART:20250330T010000
END:DAYLIGHT
BEGIN:STANDARD
TZOFFSETFROM:+0300
TZOFFSETTO:+0200
TZNAME:EET
DTSTART:20251026T010000
END:STANDARD
BEGIN:DAYLIGHT
TZOFFSETFROM:+0200
TZOFFSETTO:+0300
TZNAME:EEST
DTSTART:20260329T010000
END:DAYLIGHT
BEGIN:STANDARD
TZOFFSETFROM:+0300
TZOFFSETTO:+0200
TZNAME:EET
DTSTART:20261025T010000
END:STANDARD
BEGIN:DAYLIGHT
TZOFFSETFROM:+0200
TZOFFSETTO:+0300
TZNAME:EEST
DTSTART:20270328T010000
END:DAYLIGHT
BEGIN:STANDARD
TZOFFSETFROM:+0300
TZOFFSETTO:+0200
TZNAME:EET
DTSTART:20271031T010000
END:STANDARD
END:VTIMEZONE
BEGIN:VEVENT
DTSTART;TZID=Europe/Helsinki:20260612T220000
DTEND;TZID=Europe/Helsinki:20260612T233000
DTSTAMP:20260424T155406
CREATED:20251222T080545Z
LAST-MODIFIED:20260421T092259Z
UID:15486-1781301600-1781307000@toprunner.es
SUMMARY:III LA NOCTURNA DE VALENCINA
DESCRIPTION:III LA NOCTURNA DE VALENCINA\n \n  \nINSCRÍBETE AQUÍ\nREGLAMENTO VALENCINA\nRecorrido – 11k +322m\n﻿ \nPowered by Wikiloc\n  \nPrecios y modalidades de inscripción\n\nHasta el 12 de mayo a las 23:59h \n Inscripción (incluye camiseta full print): 15€ \n Camiseta full print: 0€  \nDesde el 13 de mayo a las 00:00 hasta el martes 9 de junio a las 23:59h \n Inscripción (no incluye camiseta full print): 15€ \n Camiseta full print: 6€ \n  \nCamiseta oficial del evento\n \n  \n \n  \nPremios\nLa III Nocturna de Valencina premia a los tres primeros clasificados y clasificadas de la general\, a los tres primeros y primeras de cada categoría y a la general local. Los premios no serán acumulativos guardando prelación la descripción anterior. \nCategorías\nCategoría Senior A\, aproximadamente de 16* a 29 años\, nacidos del 13/06/1996 al 12/06/2010. \nCategoría Senior B\, aproximadamente de 30 a 39 años\, nacidos del 13/06/1986 al 12/06/1996. \nCategoría Veterano A\, aproximadamente de 40 a 49 años\, nacidos del 13/06/1976 al 12/06/1986. \nCategoría Veterano B\, aproximadamente de 50 a 59 años\, 13/06/1966 al 12/06/1976. \nCategoría Máster\, aproximadamente de 60 en adelante nacidos hasta el 12/06/1966. \n*Para la participación de menores de edad se requerirá justificante del tutor legal. \n  \nPara más información contacta con nosotros:\nCorreo electrónico: info@toprunner.es \nTikTok\, Facebook e Instagram: TopRunnerSpain \nTeléfono\, WhatsApp y Telegram: 624 634 007 \n  \n  \n  \n  \n 
URL:https://toprunner.es/evento/iii-la-nocturna-de-valencina/
CATEGORIES:Eventos
ATTACH;FMTTYPE=image/jpeg:https://toprunner.es/wp-content/uploads/2025/12/CARTEL-VALENCINA-26.jpeg
ORGANIZER;CN="TopRunner":MAILTO:info@toprunner.es
END:VEVENT
END:VCALENDAR